Workbook

Sheet Table List
E2: Sheet name | F2: Table no. | G2: Table title
E3: Background data | F3: Table S1 | G3: Energy and land markets in 8-computing-hub regions
F4: Table S2 | G4: 2014-2030 China Data Center Electricity Consumption and Share in Total Social Electricity Consumption (billions kWh)
F5: Table S3 | G5: Wind and solar energy generation and curtailment
F6: Table S4 | G6: Number of projects by quarter in the first year since the launch of Eastern Data and Western Computing
F7: Table S5 | G7: Number of projects in eight hubs in the first year since the project was launched
F8: Table S6 | G8: Current data center distribution in China (before Eastern Data and Western Computing)
F9: Table S7 | G9: National Data Center PUEs in 2019
F10: Table S8 | G10: The development context of eastern and western China in 2020
E11: Economic data | F11: Table S9 | G11: Data center power consumption in the 8 hubs after the implementation of the Eastern Data and Western Computing (the initiative)
F12: Table S10 | G12: Data center power consumption in the 8 hubs in Scenario 1 (S1)
F13: Table S11 | G13: Data center power consumption in the 8 hubs in Scenario 2 (S2)
F14: Table S12 | G14: Economic overhead of data center power consumption in the 8 hubs after the implementation of the Eastern Data and Western Computing (the innitiative)
F15: Table S13 | G15: Economic overhead of data center power consumption in the 8 hubs in Scenario 1 (S1)
F16: Table S14 | G16: Economic overhead of data center power consumption in the 8 hubs in Scenario 2 (S2)
F17: Table S15 | G17: Economic overhead of data center power consumption without the implementation of the Eastern Data and Western Computing by region (BAU)
E18: Environmental data | F18: Table S16 | G18: Power generation in selected regions (hydropower)
F19: Table S17 | G19: Power generation in selected regions (Wind power)
F20: Table S18 | G20: Power generation in selected regions (Solar power)
F21: Table S19 | G21: Power generation in selected regions (Coal power)
F22: Table S20 | G22: Power generation in selected regions (Nuclear power)
F23: Table S21 | G23: Line loss rate of electric power in selected regions
F24: Table S22 | G24: Total power generation in selected regions
F25: Table S23 | G25: Share of hydropower in total power generation in selected regions
F26: Table S24 | G26: Share of wind power in total power generation in selected regions
F27: Table S25 | G27: Share of solar power in total power generation in selected regions
F28: Table S26 | G28: Share of coal power in total power generation in selected regions
F29: Table S27 | G29: Share of nuclear power in total power generation in selected regions
F30: Table S28 | G30: CO2 emission factor of different renewable energy source in China (g/Kwh)
... F40: Table S38 | G40: CO2 emissions of data centers in the 8 hubs in Scenario 2 (S2)

Sheet Background data
A2: Table S1.Energy and land markets in 8-computing-hub regions
A3: Item | B3: Electricity tariff | C3: Curtailment Rate of Solar and Wind energy | D3: Ave. price of floor space on industrial land
A4: Unit | B4: CNY/Kwh | C4: % | D4: CNY/m2
A5: Yangtze River Delta | B5: 0.68225 | C5: =J35 -> 0 | D5: 679
A6: The Greater Bay Area | B6: 0.70996875 | C6: =J36 -> 0 | D6: 577
A7: Beijing-Tianjin-Hebei | B7: 0.633263 | C7: =J37 -> 0.033608564 | D7: 898
A8: Chengdu-Chongqing | B8: 0.64678338 | C8: =J38 -> 0 | D8: 116
A9: Inner Mongolia | B9: 0.386325 | C9: =J39 -> 0.068171854 | D9: 478
A10: Guizhou | B10: 0.777725 | C10: =J40 -> 0.0070440252 | D10: 233
A11: Gansu | B11: 0.449225 | C11: =J41 -> 0.097120145 | D11: 246
A12: Ningxia | B12: 0.354125 | C12: =J42 -> 0.028042063 | D12: 191
A13: Northeast | B13: 0.56375567
A14: Central China | B14: 0.58339969
A15: State Grid Corporation of China, 2022. The latest electricity prices announced by the regional grid. https://m.in-en.com/article/html/energy-2315233.shtml
A16: Liu, J., Wang, Q., Song, Z., & Fang, F. (2021). Bottlenecks and countermeasures of high-penetration renewable energy development in china. Engineering, 7(11), 1611-1622.
A18: Table S2. 2014-2030 China Data Center Electricity Consumption and Share in Total Social Electricity Consumption (billions kWh)
A19: Item | B19: 2014 | C19: 2015 | D19: 2016 | E19: 2017 | F19: 2018 | G19: 2019 | H19: 2020 | I19: 2021 | J19: 2022 | K19: 2023 | L19: 2024 | M19: 2025 | N19: 2026 | O19: 2027 | P19: 2028 | Q19: 2029 | R19: 2030
A20: Power consumption | B20: 82.9 | C20: 100 | D20: 110.8 | E20: 125 | F20: 150 | G20: 176.3 | H20: 203.5 | I20: 237.2 | J20: 273.9 | K20: 312.3 | L20: 352.9 | M20: 395.2 | N20: 441.5238 | O20: 493.4448 | P20: 541.8339 | Q20: 577.562 | R20: 591.5
A21: Share in national consumption | B21: 0.015 | C21: 0.018 | D21: 0.019 | E21: 0.02 | F21: 0.0219 | G21: 0.0242 | H21: 0.0272 | I21: =I20/I23 -> 0.029935132 | J21: =J20/J23 -> 0.032920673 | K21: =K20/K23 -> 0.035748626 | L21: =L20/L23 -> 0.03847244 | M21: =M20/M23 -> 0.04103203 | N21: =N20/N23 -> 0.044427833 | O21: =O20/O23 -> 0.048249223 | P21: =P20/P23 -> 0.051751089 | ... R21: =R20/R23 -> 0.055280374
A22: Areas within the project | B22: =B20*0.95 -> 78.755 | C22: =C20*0.95 -> 95 | D22: =D20*0.95 -> 105.26 | E22: =E20*0.95 -> 118.75 | F22: =F20*0.95 -> 142.5 | G22: =G20*0.95 -> 167.485 | H22: =H20*0.95 -> 193.325 | I22: =I20*0.95 -> 225.34 | ... R22: =R20*0.95 -> 561.925
A23: Total Social Electricity Consumption | B23: 5639.3 | C23: 5693.3 | D23: 5971 | E23: 6362.5 | F23: 6940.4 | G23: 7285.2 | H23: 7511 | I23: 7923.8 | J23: 8320 | K23: 8736 | L23: 9172.8 | M23: 9631.5 | N23: 9938 | O23: 10227 | P23: 10470 | Q23: 10638 | R23: 10700
A24: Energy consumption of cooling system | B24: 47.253 | C24: 57 | D24: 63.156 | E24: 71.25 | F24: 78.075 | G24: 90.699 | H24: 103.755 | I24: 118.4145 | J24: 139.30511 | K24: 155.14389 | L24: 171.31518 | M24: 187.37258 | N24: 204.33375 | O24: 222.77227 | P24: 238.47987 | Q24: 247.66199 | R24: 240.23678
A25: Share of cooling system | B25: =B24/B20 -> 0.57 | C25: =C24/C20 -> 0.57 | D25: =D24/D20 -> 0.57 | E25: =E24/E20 -> 0.57 | F25: =F24/F20 -> 0.5205 | G25: =G24/G20 -> 0.51445831 | H25: =H24/H20 -> 0.50985258 | I25: =I24/I20 -> 0.49921796 | ... R25: =R24/R20 -> 0.4061484
A26: China Data Center Energy Saving Technology Committee
A27: CEC. China Data Center Industry Analysis and Development Strategy Consulting Report. 36 https://www.car.org.cn/ueditor/php/upload/file/20211124/1637742154496728.pdf (2020).
A28: Projections from the China Open Data Center Council
A29: State Grid Corporation of China. China’s energy and power development plan 2030 and outlook 2060. (2021).
A30: Jiang, H., Li, B. & Zhang, W. Driving green and low carbon development in data centres. China Environment News 03 (2022).
A32: Table S3. Wind and solar energy generation and curtailment
A33: Enegy type | B33: Solar energy | E33: Wind energy | H33: Total
B34: Generating capacity (108 kW·h) | C34: Abandoned electricity consumption (× 108 kW·h) | D34: Rate | E34: Generating capacity (108 kW·h) | F34: Abandoned electricity con-sumption (× 108 kW·h) | G34: Rate | H34: Generating capacity | I34: Energy curtailment | J34: Curtailment Rate
A35: Yangtze River Delta | B35: 0 | C35: 0 | D35: 0 | E35: 137 | F35: 0 | G35: =F35/E35 -> 0 | H35: =(B35+E35)/10 -> 13.7 | I35: =(C35+F35)/10 -> 0 | J35: =I35/H35 -> 0
A36: The Greater Bay Area | B36: 0 | C36: 0 | D36: 0 | E36: 35.5 | F36: 0 | G36: =F36/E36 -> 0 | H36: =(B36+E36)/10 -> 3.55 | I36: =(C36+F36)/10 -> 0 | J36: =I36/H36 -> 0
A37: Beijing-Tianjin-Hebei | B37: 88.888889 | C37: 1.6 | D37: =C37/B37 -> 0.018 | E37: 178.9 | F37: 7.4 | G37: =F37/E37 -> 0.04136389 | H37: =(B37+E37)/10 -> 26.778889 | I37: =(C37+F37)/10 -> 0.9 | J37: =I37/H37 -> 0.033608564
A38: Chengdu-Chongqing | B38: 0 | C38: 0 | D38: 0 | E38: 49.6 | F38: 0 | G38: =F38/E38 -> 0 | H38: =(B38+E38)/10 -> 4.96 | I38: =(C38+F38)/10 -> 0 | J38: =I38/H38 -> 0
A39: Inner Mongolia | B39: 100 | C39: 0.6 | D39: =C39/B39 -> 0.006 | E39: 356.2 | F39: 30.5 | G39: =F39/E39 -> 0.085626053 | H39: =(B39+E39)/10 -> 45.62 | I39: =(C39+F39)/10 -> 3.11 | J39: =I39/H39 -> 0.068171854
A40: Guizhou | B40: 14.285714 | C40: 0.1 | D40: =C40/B40 -> 0.007 | E40: 42.5 | F40: 0.3 | G40: =F40/E40 -> 0.0070588235 | H40: =(B40+E40)/10 -> 5.6785714 | I40: =(C40+F40)/10 -> 0.04 | J40: =I40/H40 -> 0.0070440252
A41: Gansu | B41: 62.318841 | C41: 4.3 | D41: =C41/B41 -> 0.069 | E41: 118.9 | F41: 13.3 | G41: =F41/E41 -> 0.1118587 | H41: =(B41+E41)/10 -> 18.121884 | I41: =(C41+F41)/10 -> 1.76 | J41: =I41/H41 -> 0.097120145
A42: Ningxia | B42: 59.375 | C42: 1.9 | D42: =C42/B42 -> 0.032 | E42: 90.4 | F42: 2.3 | G42: =F42/E42 -> 0.025442478 | H42: =(B42+E42)/10 -> 14.9775 | I42: =(C42+F42)/10 -> 0.42 | J42: =I42/H42 -> 0.028042063
A43: Liu, J., Wang, Q., Song, Z. & Fang, F. Bottlenecks and Countermeasures of High-Penetration Renewable Energy Development in China. Engineering 7, 1611–1622 (2021).
...

Sheet Economic data
A2: Table S9. Data center power consumption in the 8 hubs after the implementation of the Eastern Data and Western Computing (the initiative)
A3: Billion Kwh | B3: 2022 | C3: 2023 | D3: 2024 | E3: 2025 | F3: 2026 | G3: 2027 | H3: 2028 | I3: 2029 | J3: 2030
A4: YRD | B4: 118.275 | C4: 116.05178 | D4: 120.04838 | E4: 113.30243 | F4: 102.89081 | G4: 93.952771 | H4: 80.065634 | I4: 60.721362 | J4: 36.96875
A5: GBA | B5: 31.54 | C5: 38.034617 | D5: 48.030641 | E5: 55.198619 | F5: 52.956575 | G5: 52.098078 | H5: 49.426217 | I5: 44.391484 | J5: 36.96875
A6: BTH | B6: 31.54 | C6: 32.265742 | D6: 34.992946 | E6: 34.862286 | F6: 35.479591 | G6: 37.448936 | H6: 38.702421 | I6: 38.676027 | J6: 36.96875
A7: CC | B7: 55.195 | C7: 48.223799 | D7: 42.612378 | E7: 31.957095 | F7: 32.982879 | G7: 35.356201 | H7: 37.170451 | I7: 37.859533 | J7: 36.96875
A8: IM | B8: 0 | C8: 8.24125 | D8: 18.625278 | E8: 29.051905 | F8: 36.925056 | G8: 47.655606 | H8: 59.343713 | I8: 70.734156 | J8: 80.098958
A9: GZ | B9: 0 | C9: 7.417125 | D9: 16.76275 | E9: 26.146714 | F9: 34.428344 | G9: 45.562872 | H9: 57.811742 | I9: 69.917662 | J9: 80.098958
A10: GS | B10: 15.77 | C10: 16.956996 | D10: 19.359001 | E10: 20.336333 | F10: 29.43492 | G10: 41.377402 | H10: 54.7478 | I10: 68.284674 | J10: 80.098958
A11: NX | B11: 7.885 | C11: 9.7146856 | D11: 12.473292 | E11: 14.525952 | F11: 24.441496 | G11: 37.191933 | H11: 51.683859 | I11: 66.651686 | J11: 80.098958
A14: Table S10. Data center power consumption in the 8 hubs in Scenario 1 (S1)
A15: Billion Kwh | B15: 2022 | C15: 2023 | D15: 2024 | E15: 2025 | F15: 2026 | G15: 2027 | H15: 2028 | I15: 2029 | J15: 2030
A16: Yangtze River Delta | B16: 118.275 | C16: 124.3412 | D16: 128.62327 | E16: 130.73357 | F16: 123.46898 | G16: 112.74333 | H16: 96.078761 | I16: 72.865634 | J16: 44.3625
A17: The Greater Bay Area | B17: 31.54 | C17: 40.751376 | D17: 51.461401 | E17: 63.690714 | F17: 63.54789 | G17: 62.517694 | H17: 59.311461 | I17: 53.269781 | J17: 44.3625
A18: Beijing-Tianjin-Hebei | B18: 31.54 | C18: 34.570438 | D18: 37.492442 | E18: 40.225714 | F18: 42.575509 | G18: 44.938723 | H18: 46.442906 | I18: 46.411232 | J18: 44.3625
A19: Chengdu-Chongqing | B19: 55.195 | C19: 51.668356 | D19: 45.656119 | E19: 36.873571 | F19: 39.579455 | G19: 42.427441 | H19: 44.604541 | I19: 45.431439 | J19: 44.3625
A20: Inner Mongolia | B20: 0 | C20: 8.8299107 | D20: 19.955655 | E20: 33.521429 | F20: 44.310067 | G20: 57.186728 | H20: 71.212455 | I20: 84.880987 | J20: 96.11875
A21: Guizhou | B21: 0 | C21: 7.9469196 | D21: 17.960089 | E21: 30.169286 | F21: 41.314013 | G21: 54.675446 | H21: 69.37409 | I21: 83.901194 | J21: 96.11875
A22: Gansu | B22: 15.77 | C22: 18.16821 | D22: 20.741787 | E22: 23.465 | F22: 35.321904 | G22: 49.652883 | H22: 65.69736 | I22: 81.941609 | J22: 96.11875
A23: Ningxia | B23: 7.885 | C23: 10.408592 | D23: 13.364242 | E23: 16.760714 | F23: 29.329795 | G23: 44.63032 | H23: 62.02063 | I23: 79.982023 | J23: 96.11875
A26: Table S11. Data center power consumption in the 8 hubs in Scenario 2 (S2)
A27: Billion Kwh | B27: 2022 | C27: 2023 | D27: 2024 | E27: 2025 | F27: 2026 | G27: 2027 | H27: 2028 | I27: 2029 | J27: 2030
A28: Yangtze River Delta | B28: 110.39 | C28: 91.197909 | D28: 59.315717 | E28: 24.7 | F28: 26.491428 | G28: 29.606688 | H28: 32.510034 | I28: 34.65372 | J28: 35.49
A29: The Greater Bay Area | B29: 29.437333 | C29: 29.663242 | D29: 27.031902 | E29: 24.7 | F29: 26.491428 | G29: 29.606688 | H29: 32.510034 | I29: 34.65372 | J29: 35.49
A30: Beijing-Tianjin-Hebei | B30: 29.437333 | C30: 29.663242 | D30: 27.031902 | E30: 24.7 | F30: 26.491428 | G30: 29.606688 | H30: 32.510034 | I30: 34.65372 | J30: 35.49
A31: Chengdu-Chongqing | B31: 51.515333 | C31: 46.445424 | D31: 35.836579 | E31: 24.7 | F31: 26.491428 | G31: 29.606688 | H31: 32.510034 | I31: 34.65372 | J31: 35.49
A32: Inner Mongolia | B32: 0 | C32: 15.7885 | D32: 33.133389 | E32: 53.516667 | F32: 57.398094 | G32: 64.147824 | H32: 70.438407 | I32: 75.08306 | J32: 76.895
A33: Guizhou | B33: 0 | C33: 15.7885 | D33: 33.133389 | E33: 53.516667 | F33: 57.398094 | G33: 64.147824 | H33: 70.438407 | I33: 75.08306 | J33: 76.895
A34: Gansu | B34: 14.718667 | C34: 26.976621 | D34: 39.003173 | E34: 53.516667 | F34: 57.398094 | G34: 64.147824 | H34: 70.438407 | I34: 75.08306 | J34: 76.895
A35: Ningxia | B35: 7.3593333 | C35: 21.382561 | D35: 36.068281 | E35: 53.516667 | F35: 57.398094 | G35: 64.147824 | H35: 70.438407 | I35: 75.08306 | J35: 76.895
A38: Table S12. Economic overhead of data center power consumption in the 8 hubs after the implementation of the Eastern Data and Western Computing (the innitiative)
A39: Billion USD | B39: 2014 | C39: 2015 | D39: 2016 | E39: 2017 | F39: 2018 | G39: 2019 | H39: 2020 | I39: 2021 | J39: 2022 | K39: 2023 | L39: 2024 | M39: 2025 | N39: 2026 | O39: 2027 | P39: 2028 | Q39: 2029 | R39: 2030
A40: YRD | J40: 11.978315 | K40: 11.753159 | L40: 12.157915 | M40: 11.474717 | N40: 10.42028 | O40: 9.5150785 | P40: 8.108657 | Q40: 6.1495635 | R40: 3.7440147
A41: GBA | J41: 3.3239935 | K41: 4.0084597 | L41: 5.0619383 | M41: 5.81737 | N41: 5.5810814 | O41: 5.4906047 | P41: 5.2090179 | Q41: 4.6784085 | R41: 3.8961282
A42: BTH | J42: 2.9648658 | K42: 3.033088 | L42: 3.2894543 | M42: 3.2771718 | N42: 3.3352006 | O42: 3.5203256 | P42: 3.6381575 | Q42: 3.6356763 | R42: 3.4751865
A43: CC | J43: 5.2992917 | K43: 4.6299842 | L43: 4.0912296 | M43: 3.0682121 | N43: 3.166698 | O43: 3.3945615 | P43: 3.5687483 | Q43: 3.6349073 | R43: 3.5493829
A44: IM | J44: 0 | K44: 0.47261243 | L44: 1.0681071 | M44: 1.6660448 | N44: 2.1175478 | O44: 2.7329145 | P44: 3.4031945 | Q44: 4.0564042 | R44: 4.5934492
A45: GZ | J45: 0 | K45: 0.85629005 | L45: 1.935221 | M45: 3.0185781 | N45: 3.9746732 | O45: 5.2601289 | P45: 6.6742329 | Q45: 8.0718335 | R45: 9.2472408
A46: GS | J46: 1.0516103 | K46: 1.1307643 | L46: 1.2909401 | M46: 1.3561128 | N46: 1.962845 | O46: 2.7592203 | P46: 3.650815 | Q46: 4.5535111 | R46: 5.3413376
A47: NX | J47: 0.41449331 | K47: 0.51067498 | L47: 0.65568752 | M47: 0.76359037 | N47: 1.2848239 | O47: 1.9550802 | P47: 2.7168819 | Q47: 3.5037004 | R47: 4.2105875
...

Sheet Environmental data
A1: Table S16. Power generation in selected regions (hydropower)
A2: Unit: 100 million Kwh
A3: Region | B3: 2010 | C3: 2011 | D3: 2012 | E3: 2013 | F3: 2014 | G3: 2015 | H3: 2016 | I3: 2017 | J3: 2018 | K3: 2019 | L3: 2020 | M3: 2021 | N3: 2022 | O3: 2023 | P3: 2024 | Q3: 2025
A4: National | B4: 6867 | C4: 6681 | D4: 8556 | E4: 8921 | F4: 10601 | G4: 11127 | H4: 11748 | I4: 11931 | J4: 12321 | K4: 13021 | L4: 13553 | M4: 14698.018 | N4: 15400.309 | O4: 16102.6 | P4: 16804.891 | Q4: 17507.182
A5: Beijing | B5: 4.3 | C5: 4.5 | D5: 5 | E5: 7 | F5: 7 | G5: 7 | H5: 12 | I5: 11 | J5: 10 | K5: 10 | L5: 11 | M5: 12.627273 | N5: 13.386364 | O5: 14.145455 | P5: 14.904545 | Q5: 15.663636
A6: Tianjin | B6: 0.12 | C6: 0.14 | D6: 0.2 | E6: 0.2 | F6: 0.2 | G6: 0.2 | I6: 0.1 | J6: 0.2 | K6: 0.1 | L6: 0.1 | M6: 0.1277686 | N6: 0.1231405 | O6: 0.1185124 | P6: 0.1138843 | Q6: 0.1092562
A7: Hebei | B7: 8 | C7: 9 | D7: 10 | E7: 12 | F7: 13 | G7: 11 | H7: 24 | I7: 20 | J7: 17 | K7: 16 | L7: 15 | M7: 20.145455 | N7: 21.154545 | O7: 22.163636 | P7: 23.172727 | Q7: 24.181818
A8: Inner Mongolia | B8: 20 | C8: 18 | D8: 29 | E8: 36 | F8: 35 | G8: 36 | H8: 27 | I8: 24 | J8: 45 | K8: 58 | L8: 57 | M8: 54.690909 | N8: 57.972727 | O8: 61.254545 | P8: 64.536364 | Q8: 67.818182
A9: Shanghai
A10: Jiangsu | B10: 14 | C10: 13 | D10: 12 | E10: 12 | F10: 12 | G10: 12 | H10: 17 | I10: 29 | J10: 34 | K10: 31 | L10: 32 | M10: 34.381818 | N10: 36.809091 | O10: 39.236364 | P10: 41.663636 | Q10: 44.090909
A11: Zhejiang | B11: 224 | C11: 156 | D11: 220 | E11: 191 | F11: 203 | G11: 229 | H11: 274 | I11: 212 | J11: 192 | K11: 257 | L11: 209 | M11: 234.70909 | N11: 237.96364 | O11: 241.21818 | P11: 244.47273 | Q11: 247.72727
A12: Anhui | B12: 37 | C12: 28 | D12: 36 | E12: 36 | F12: 41 | G12: 49 | H12: 63 | I12: 57 | J12: 53 | K12: 51 | L12: 66 | M12: 66.2 | N12: 69.4 | O12: 72.6 | P12: 75.8 | Q12: 79
A13: Guangdong | B13: 268 | C13: 209 | D13: 298 | E13: 318 | F13: 289 | G13: 284 | H13: 423 | I13: 301 | J13: 292 | K13: 397 | L13: 286 | M13: 356.30909 | N13: 364.70909 | O13: 373.10909 | P13: 381.50909 | Q13: 389.90909
A14: Chongqing | B14: 143 | C14: 146 | D14: 210 | E14: 178 | F14: 241 | G14: 229 | H14: 247 | I14: 253 | J14: 242 | K14: 243 | L14: 281 | M14: 291.90909 | N14: 304 | O14: 316.09091 | P14: 328.18182 | Q14: 340.27273
A15: Sichuan | B15: 1139 | C15: 1261 | D15: 1545 | E15: 2023 | F15: 2578 | G15: 2767 | H15: 2989 | I15: 3164 | J15: 3249 | K15: 3316 | L15: 3541 | M15: 4035.7273 | N15: 4290.5909 | O15: 4545.4545 | P15: 4800.3182 | Q15: 5055.1818
A16: Guizhou | B16: 384 | C16: 393 | D16: 560 | E16: 422 | F16: 733 | G16: 827 | H16: 727 | I16: 733 | J16: 770 | K16: 769 | L16: 831 | M16: 921.81818 | N16: 967.13636 | O16: 1012.4545 | P16: 1057.7727 | Q16: 1103.0909
A17: Gansu | B17: 263 | C17: 282 | D17: 344 | E17: 356 | F17: 355 | G17: 336 | H17: 314 | I17: 374 | J17: 444 | K17: 496 | L17: 507 | M17: 499.41818 | N17: 520.97273 | O17: 542.52727 | P17: 564.08182 | Q17: 585.63636
A18: Ningxia | B18: 18 | C18: 17 | D18: 19 | E18: 19 | F18: 18 | G18: 16 | H18: 14 | I18: 16 | J18: 20 | K18: 22 | L18: 22 | M18: 20.072727 | N18: 20.372727 | O18: 20.672727 | P18: 20.972727 | Q18: 21.272727
A19: Liaoning | B19: 57 | C19: 41 | D19: 64 | E19: 79 | F19: 42 | G19: 32 | H19: 56 | I19: 45 | J19: 46 | K19: 44 | L19: 57 | M19: 45.945455 | N19: 45.072727 | O19: 44.2 | P19: 43.327273 | Q19: 42.454545
A20: Jilin | B20: 103 | C20: 74 | D20: 79 | E20: 125 | F20: 70 | G20: 53 | H20: 85 | I20: 77 | J20: 79 | K20: 67 | L20: 94 | M20: 73.963636 | N20: 72.563636 | O20: 71.163636 | P20: 69.763636 | Q20: 68.363636
A21: Heilongjiang | B21: 22 | C21: 16 | D21: 18 | E21: 29 | F21: 21 | G21: 19 | H21: 23 | I21: 25 | J21: 26 | K21: 28 | L21: 32 | M21: 29.872727 | N21: 30.927273 | O21: 31.981818 | P21: 33.036364 | Q21: 34.090909
A22: China Energy Statistical Yearbook
A25: Table S17. Power generation in selected regions (Wind power)
A26: Unit: 100 million Kwh
A27: Region | B27: 2010 | C27: 2011 | D27: 2012 | E27: 2013 | F27: 2014 | G27: 2015 | H27: 2016 | I27: 2017 | J27: 2018 | K27: 2019 | L27: 2020 | M27: 2021 | N27: 2022 | O27: 2023 | P27: 2024 | Q27: 2025
A28: National | B28: 494 | C28: 741 | D28: 1030 | E28: 1383 | F28: 1598 | G28: 1856 | H28: 2409 | I28: 3046 | J28: 3658 | K28: 4053 | L28: 4665 | M28: 4782.4909 | N28: 5201.8 | O28: 5621.1091 | P28: 6040.4182 | Q28: 6459.7273
A29: Beijing | B29: 3.1 | C29: 3.1 | D29: 3.1 | E29: 3.2 | F29: 2.9 | G29: 3 | H29: 3 | I29: 3 | J29: 3 | K29: 3 | L29: 4 | M29: 3.3181818 | N29: 3.35 | O29: 3.3818182 | P29: 3.4136364 | Q29: 3.4454545
A30: Tianjin | B30: 0.1 | C30: 1.4 | D30: 4.7 | E30: 5.6 | F30: 5.8 | G30: 6 | H30: 6 | I30: 6 | J30: 8 | K30: 11 | L30: 12 | M30: 11.989091 | N30: 12.978182 | O30: 13.967273 | P30: 14.956364 | Q30: 15.945455
A31: Hebei | B31: 57 | C31: 89 | D31: 126.5 | E31: 155.3 | F31: 163.8 | G31: 168 | H31: 216 | I31: 263 | J31: 283 | K31: 318 | L31: 368 | M31: 375.67818 | N31: 404.84273 | O31: 434.00727 | P31: 463.17182 | Q31: 492.33636
A32: Inner Mongolia | B32: 174 | C32: 227 | D32: 284.4 | E32: 368.2 | F32: 386.2 | G32: 408 | H32: 464 | I32: 551 | J32: 632 | K32: 666 | L32: 726 | M32: 771.64727 | N32: 826.21273 | O32: 880.77818 | P32: 935.34364 | Q32: 989.90909
A33: Shanghai | B33: 2 | C33: 4 | D33: 6.3 | E33: 7.7 | F33: 7.4 | G33: 10 | H33: 14 | I33: 17 | J33: 18 | K33: 17 | L33: 19 | M33: 21.889091 | N33: 23.682727 | O33: 25.476364 | P33: 27.27 | Q33: 29.063636
A34: Jiangsu | B34: 23 | C34: 27 | D34: 37.2 | E34: 46.8 | F34: 56.7 | G34: 64 | H34: 98 | I34: 120 | J34: 173 | K34: 184 | L34: 229 | M34: 219.14182 | N34: 239.62455 | O34: 260.10727 | P34: 280.59 | Q34: 301.07273
A35: Zhejiang | B35: 5 | C35: 6 | D35: 7.8 | E35: 9.7 | F35: 12.9 | G35: 16 | H35: 23 | I35: 25 | J35: 31 | K35: 33 | L35: 36 | M35: 39.034545 | N35: 42.428182 | O35: 45.821818 | P35: 49.215455 | Q35: 52.609091
A36: Anhui | B36: 0 | C36: 2 | D36: 4.6 | E36: 8.6 | F36: 13 | G36: 21 | H36: 34 | I36: 41 | J36: 50 | K36: 47 | L36: 57 | M36: 62.763636 | N36: 69.009091 | O36: 75.254545 | P36: 81.5 | Q36: 87.745455
A37: Guangdong | B37: 10.2 | C37: 16 | D37: 24.3 | E37: 30.6 | F37: 33.9 | G37: 42 | H37: 50 | I37: 62 | J37: 63 | K37: 74 | L37: 103 | M37: 94.872727 | N37: 102.97273 | O37: 111.07273 | P37: 119.17273 | Q37: 127.27273
A38: Chongqing | B38: 0.5 | C38: 1 | D38: 0.8 | E38: 1.2 | F38: 1.8 | G38: 3 | H38: 5 | I38: 7 | J38: 8 | K38: 11 | L38: 14 | M38: 12.694545 | N38: 14.002727 | O38: 15.310909 | P38: 16.619091 | Q38: 17.927273
A39: Sichuan | C39: 0.2 | D39: 0.4 | E39: 0.8 | F39: 3.6 | G39: 10 | H39: 21 | I39: 35 | J39: 55 | K39: 71 | L39: 86 | M39: 83.053333 | N39: 93.008485 | O39: 102.96364 | P39: 112.91879 | Q39: 122.87394
A40: Guizhou | C40: 1 | D40: 4.9 | E40: 12 | F40: 18.5 | G40: 33 | H40: 55 | I40: 63 | J40: 68 | K40: 78 | L40: 97 | M40: 103.41333 | N40: 114.3903 | O40: 125.36727 | P40: 136.34424 | Q40: 147.32121
A41: Gansu | B41: 21 | C41: 71 | D41: 94 | E41: 119.2 | F41: 114.8 | G41: 127 | H41: 136 | I41: 188 | J41: 230 | K41: 228 | L41: 246 | M41: 269.71636 | N41: 290.80545 | O41: 311.89455 | P41: 332.98364 | Q41: 354.07273
A42: Ningxia | B42: 8 | C42: 13 | D42: 33.3 | E42: 60.7 | F42: 70.8 | G42: 88 | H42: 129 | I42: 155 | J42: 187 | K42: 186 | L42: 194 | M42: 229.34 | N42: 250.52091 | O42: 271.70182 | P42: 292.88273 | Q42: 314.06364
...

Sheet Method
A1: Part I | B1: CO2 emissions estimation
B2: (4) Total CO2 emissions of data center power consumption in China in year i.
C6: Total CO2 emissions of data center power consumption in China in year i.
C7: CO2 emissions of data center power consumption in region l in year i.
B10: (5) CO2 emissions of data center power consumption in region l in year i.
C14: CO2 emissions of data center power consumption in region l in year i.
C15: Electricity consumption of data centers in region l in year i.
C16: Average CO2 emission factor of power grid in region l in year i.
B19: (6) Average CO2 emission factor of power grid in region l in year i.
C23: Average CO2 emission factor of power grid in region l in year i.
C24: The share of energy type n of power grid of region l in year i.
C25: CO2 emission factor of energy type n in China.
B27: Note: In our analysis, we omit considerations for energy consumption variations associated with selecting different types of hard drives due to the absence of regulations in this initiative mandating the consolidation of identical data storage types on a single hard drive. Moreover, diverse hard drive types demonstrate differing power consumption levels across various operations, with average values exhibiting minimal distinctions.
A36: Part II | B36: Power cost estimation
B37: (1) Total power cost of data centers in China in year i.
C41: Total power cost of data centers in China in year i.
C42: Power cost of data centers in region l in year i.
B45: (2) Power cost of data centers in region l in year i.
C49: Power cost of data centers in region l in year i.
C50: Unit industry electricity tariff in region l.
C51: Electricity consumption of data centers in region l in year i.
B54: (3) Electricity consumption of data centers in region l in year i.
C58: Electricity consumption of data centers in region l in year i.
C59: Toal electricity consumption of data centers in China in year i.
C60: Proportion of data centers distributed in region l in year i (Electricity consumption of data centers in region l as a percentage of total national data center electricity consumption in year i).
A64: Part III | B64: Indirect value added contribution
C67: Value added vector.
C68: Value added coefficient, which refers to value added per unit of total output εj=Vj/Xj . In this model, we asssume that the coefficient is fixed.
C69: Leontief inverse.
C70: Final demand matrix. In our model, changes in elecricty costs RECl and investments in communication equipment, computers, and other electronic equipment sector IVl will induce changes in the final demand in region l.
C71: Economic investment in the data center industry (covered in communication equipment, computers, and other electronic equipment sector) in region l.
C72: Residential electricity costs in region l, which is equal to residential electricity consumption multiplied by the unit residential electricity tariff in region l.
B74: Zheng, H. et al. Chinese provincial multi-regional input-output database for 2012, 2015, and 2017. Sci. Data 8, 244 (2021).
